BEGIN:VCALENDAR
VERSION:2.0
PRODID:-//Faith Baptist Church - ECPv5.3.1.1//NONSGML v1.0//EN
CALSCALE:GREGORIAN
METHOD:PUBLISH
X-WR-CALNAME:Faith Baptist Church
X-ORIGINAL-URL:https://www.faithbaptistchurch.de
X-WR-CALDESC:Events for Faith Baptist Church
BEGIN:VTIMEZONE
TZID:UTC
BEGIN:STANDARD
TZOFFSETFROM:+0000
TZOFFSETTO:+0000
TZNAME:UTC
DTSTART:20210101T000000
END:STANDARD
END:VTIMEZONE
BEGIN:VEVENT
DTSTART;TZID=UTC:20210501T100000
DTEND;TZID=UTC:20210501T110000
DTSTAMP:20260420T013834
CREATED:20210422T072552Z
LAST-MODIFIED:20210422T073126Z
UID:5645-1619863200-1619866800@www.faithbaptistchurch.de
SUMMARY:Parenting Conference
DESCRIPTION:Registration is now live for the the Faith@Home Parenting Conference! \n\nCLICK HERE TO REGISTER. \nConference details:\nSaturday May 1st\, 10:00 a.m. – 01:00 p.m. \n\n\n10:00 a.m. Introduction & Home Makeover 2: The Basics\n11:00 a.m. Lunch on your own\n12:00 p.m. Home Makeover 3: The Parent Makeover\n\nChildcare will not be provided. Online registration is mandatory for everyone attending (older than 14 years-old).
URL:https://www.faithbaptistchurch.de/event/parenting-conference/
CATEGORIES:Our Events,Upcoming Events
END:VEVENT
BEGIN:VEVENT
DTSTART;TZID=UTC:20210501T110000
DTEND;TZID=UTC:20210501T120000
DTSTAMP:20260420T013834
CREATED:20210422T072716Z
LAST-MODIFIED:20210422T073111Z
UID:5647-1619866800-1619870400@www.faithbaptistchurch.de
SUMMARY:Parenting Conference
DESCRIPTION:Registration is now live for the the Faith@Home Parenting Conference! \n\nCLICK HERE TO REGISTER. \nConference details:\nSaturday May 1st\, 10:00 a.m. – 01:00 p.m. \n\n\n10:00 a.m. Introduction & Home Makeover 2: The Basics\n11:00 a.m. Lunch on your own\n12:00 p.m. Home Makeover 3: The Parent Makeover\n\nChildcare will not be provided. Online registration is mandatory for everyone attending (older than 14 years-old).
URL:https://www.faithbaptistchurch.de/event/parenting-conference-2/
CATEGORIES:Our Events,Upcoming Events
END:VEVENT
END:VCALENDAR