BEGIN:VCALENDAR
VERSION:2.0
PRODID:-//Faith Baptist Church - ECPv5.3.1.1//NONSGML v1.0//EN
CALSCALE:GREGORIAN
METHOD:PUBLISH
X-WR-CALNAME:Faith Baptist Church
X-ORIGINAL-URL:https://www.faithbaptistchurch.de
X-WR-CALDESC:Events for Faith Baptist Church
BEGIN:VTIMEZONE
TZID:UTC
BEGIN:STANDARD
TZOFFSETFROM:+0000
TZOFFSETTO:+0000
TZNAME:UTC
DTSTART:20210101T000000
END:STANDARD
END:VTIMEZONE
BEGIN:VEVENT
DTSTART;TZID=UTC:20210411T090000
DTEND;TZID=UTC:20210411T110000
DTSTAMP:20260420T031952
CREATED:20210322T120759Z
LAST-MODIFIED:20210322T120759Z
UID:5546-1618131600-1618138800@www.faithbaptistchurch.de
SUMMARY:Worship Service
DESCRIPTION:
URL:https://www.faithbaptistchurch.de/event/worship-service-101/
CATEGORIES:Our Events,Upcoming Events
END:VEVENT
BEGIN:VEVENT
DTSTART;TZID=UTC:20210411T110000
DTEND;TZID=UTC:20210411T120000
DTSTAMP:20260420T031952
CREATED:20210322T120822Z
LAST-MODIFIED:20210322T120822Z
UID:5548-1618138800-1618142400@www.faithbaptistchurch.de
SUMMARY:Worship Service
DESCRIPTION:
URL:https://www.faithbaptistchurch.de/event/worship-service-102/
CATEGORIES:Our Events,Upcoming Events
END:VEVENT
END:VCALENDAR