BEGIN:VCALENDAR
VERSION:2.0
PRODID:-//Faith Baptist Church - ECPv5.3.1.1//NONSGML v1.0//EN
CALSCALE:GREGORIAN
METHOD:PUBLISH
X-WR-CALNAME:Faith Baptist Church
X-ORIGINAL-URL:https://www.faithbaptistchurch.de
X-WR-CALDESC:Events for Faith Baptist Church
BEGIN:VTIMEZONE
TZID:UTC
BEGIN:STANDARD
TZOFFSETFROM:+0000
TZOFFSETTO:+0000
TZNAME:UTC
DTSTART:20200101T000000
END:STANDARD
END:VTIMEZONE
BEGIN:VEVENT
DTSTART;TZID=UTC:20201129T090000
DTEND;TZID=UTC:20201129T100000
DTSTAMP:20260420T114130
CREATED:20201110T132721Z
LAST-MODIFIED:20201110T132845Z
UID:4863-1606640400-1606644000@www.faithbaptistchurch.de
SUMMARY:Sunday School for all ages
DESCRIPTION:
URL:https://www.faithbaptistchurch.de/event/sunday-school-for-all-ages-13/
CATEGORIES:Our Events,Upcoming Events
END:VEVENT
BEGIN:VEVENT
DTSTART;TZID=UTC:20201129T103000
DTEND;TZID=UTC:20201129T113000
DTSTAMP:20260420T114130
CREATED:20201102T130158Z
LAST-MODIFIED:20201110T132910Z
UID:4844-1606645800-1606649400@www.faithbaptistchurch.de
SUMMARY:Worship Service
DESCRIPTION:
URL:https://www.faithbaptistchurch.de/event/worship-service-75/
CATEGORIES:Our Events,Upcoming Events
END:VEVENT
END:VCALENDAR