BEGIN:VCALENDAR
VERSION:2.0
PRODID:-//Faith Baptist Church - ECPv5.3.1.1//NONSGML v1.0//EN
CALSCALE:GREGORIAN
METHOD:PUBLISH
X-WR-CALNAME:Faith Baptist Church
X-ORIGINAL-URL:https://www.faithbaptistchurch.de
X-WR-CALDESC:Events for Faith Baptist Church
BEGIN:VTIMEZONE
TZID:UTC
BEGIN:STANDARD
TZOFFSETFROM:+0000
TZOFFSETTO:+0000
TZNAME:UTC
DTSTART:20200101T000000
END:STANDARD
END:VTIMEZONE
BEGIN:VEVENT
DTSTART;TZID=UTC:20201118T180000
DTEND;TZID=UTC:20201118T200000
DTSTAMP:20260420T113127
CREATED:20201110T134236Z
LAST-MODIFIED:20201110T134236Z
UID:4878-1605722400-1605729600@www.faithbaptistchurch.de
SUMMARY:AWANA via Zoom
DESCRIPTION:
URL:https://www.faithbaptistchurch.de/event/awana-via-zoom-3/
CATEGORIES:Our Events,Upcoming Events
END:VEVENT
BEGIN:VEVENT
DTSTART;TZID=UTC:20201118T183000
DTEND;TZID=UTC:20201118T193000
DTSTAMP:20260420T113127
CREATED:20201110T134438Z
LAST-MODIFIED:20201110T134438Z
UID:4886-1605724200-1605727800@www.faithbaptistchurch.de
SUMMARY:Youth Group via Zoom
DESCRIPTION:
URL:https://www.faithbaptistchurch.de/event/youth-group-via-zoom-3/
CATEGORIES:Our Events,Upcoming Events
END:VEVENT
END:VCALENDAR