BEGIN:VCALENDAR
VERSION:2.0
PRODID:-//Faith Baptist Church - ECPv5.3.1.1//NONSGML v1.0//EN
CALSCALE:GREGORIAN
METHOD:PUBLISH
X-WR-CALNAME:Faith Baptist Church
X-ORIGINAL-URL:https://www.faithbaptistchurch.de
X-WR-CALDESC:Events for Faith Baptist Church
BEGIN:VTIMEZONE
TZID:UTC
BEGIN:STANDARD
TZOFFSETFROM:+0000
TZOFFSETTO:+0000
TZNAME:UTC
DTSTART:20200101T000000
END:STANDARD
END:VTIMEZONE
BEGIN:VEVENT
DTSTART;TZID=UTC:20200816T090000
DTEND;TZID=UTC:20200816T100000
DTSTAMP:20260419T163020
CREATED:20200731T085710Z
LAST-MODIFIED:20200731T085740Z
UID:4416-1597568400-1597572000@www.faithbaptistchurch.de
SUMMARY:Adult Sunday School
DESCRIPTION:
URL:https://www.faithbaptistchurch.de/event/adult-sunday-school/
CATEGORIES:Our Events,Upcoming Events
END:VEVENT
BEGIN:VEVENT
DTSTART;TZID=UTC:20200816T090000
DTEND;TZID=UTC:20200816T100000
DTSTAMP:20260419T163020
CREATED:20200731T090036Z
LAST-MODIFIED:20200731T090036Z
UID:4422-1597568400-1597572000@www.faithbaptistchurch.de
SUMMARY:Student Ministry Sunday School
DESCRIPTION:
URL:https://www.faithbaptistchurch.de/event/student-ministry-sunday-school/
CATEGORIES:Our Events,Upcoming Events
END:VEVENT
BEGIN:VEVENT
DTSTART;TZID=UTC:20200816T103000
DTEND;TZID=UTC:20200816T113000
DTSTAMP:20260419T163020
CREATED:20200731T085252Z
LAST-MODIFIED:20200731T085321Z
UID:4405-1597573800-1597577400@www.faithbaptistchurch.de
SUMMARY:Worship Service
DESCRIPTION:
URL:https://www.faithbaptistchurch.de/event/worship-service-61/
CATEGORIES:Our Events,Upcoming Events
END:VEVENT
END:VCALENDAR