BEGIN:VCALENDAR
VERSION:2.0
PRODID:-//Faith Baptist Church - ECPv5.3.1.1//NONSGML v1.0//EN
CALSCALE:GREGORIAN
METHOD:PUBLISH
X-WR-CALNAME:Faith Baptist Church
X-ORIGINAL-URL:https://www.faithbaptistchurch.de
X-WR-CALDESC:Events for Faith Baptist Church
BEGIN:VTIMEZONE
TZID:UTC
BEGIN:STANDARD
TZOFFSETFROM:+0000
TZOFFSETTO:+0000
TZNAME:UTC
DTSTART:20200101T000000
END:STANDARD
END:VTIMEZONE
BEGIN:VEVENT
DTSTART;TZID=UTC:20200313T180000
DTEND;TZID=UTC:20200313T190000
DTSTAMP:20260420T012915
CREATED:20200220T115045Z
LAST-MODIFIED:20200220T115045Z
UID:3599-1584122400-1584126000@www.faithbaptistchurch.de
SUMMARY:Dominoes & Potluck Dinner
DESCRIPTION:
URL:https://www.faithbaptistchurch.de/event/dominoes-potluck-dinner-5/
LOCATION:Fellowship Hall\, Fellowship Hall
CATEGORIES:Our Events,Upcoming Events
END:VEVENT
END:VCALENDAR