BEGIN:VCALENDAR
VERSION:2.0
PRODID:-//Faith Baptist Church - ECPv5.3.1.1//NONSGML v1.0//EN
CALSCALE:GREGORIAN
METHOD:PUBLISH
X-WR-CALNAME:Faith Baptist Church
X-ORIGINAL-URL:https://www.faithbaptistchurch.de
X-WR-CALDESC:Events for Faith Baptist Church
BEGIN:VTIMEZONE
TZID:UTC
BEGIN:STANDARD
TZOFFSETFROM:+0000
TZOFFSETTO:+0000
TZNAME:UTC
DTSTART:20200101T000000
END:STANDARD
END:VTIMEZONE
BEGIN:VEVENT
DTSTART;TZID=UTC:20200308T090000
DTEND;TZID=UTC:20200308T221500
DTSTAMP:20260420T012748
CREATED:20200220T103103Z
LAST-MODIFIED:20200220T103541Z
UID:3523-1583658000-1583705700@www.faithbaptistchurch.de
SUMMARY:Sunday School
DESCRIPTION:
URL:https://www.faithbaptistchurch.de/event/sunday-school-57/
CATEGORIES:Our Events,Upcoming Events
END:VEVENT
BEGIN:VEVENT
DTSTART;TZID=UTC:20200308T103000
DTEND;TZID=UTC:20200308T120000
DTSTAMP:20260420T012748
CREATED:20200220T104258Z
LAST-MODIFIED:20200220T104258Z
UID:3535-1583663400-1583668800@www.faithbaptistchurch.de
SUMMARY:Worship Service
DESCRIPTION:
URL:https://www.faithbaptistchurch.de/event/worship-service-58/
CATEGORIES:Our Events,Upcoming Events
END:VEVENT
END:VCALENDAR