BEGIN:VCALENDAR
VERSION:2.0
PRODID:-//Faith Baptist Church - ECPv5.3.1.1//NONSGML v1.0//EN
CALSCALE:GREGORIAN
METHOD:PUBLISH
X-WR-CALNAME:Faith Baptist Church
X-ORIGINAL-URL:https://www.faithbaptistchurch.de
X-WR-CALDESC:Events for Faith Baptist Church
BEGIN:VTIMEZONE
TZID:UTC
BEGIN:STANDARD
TZOFFSETFROM:+0000
TZOFFSETTO:+0000
TZNAME:UTC
DTSTART:20200101T000000
END:STANDARD
END:VTIMEZONE
BEGIN:VEVENT
DTSTART;TZID=UTC:20200304T181500
DTEND;TZID=UTC:20200304T194500
DTSTAMP:20260420T012822
CREATED:20200220T111741Z
LAST-MODIFIED:20200220T111741Z
UID:3578-1583345700-1583351100@www.faithbaptistchurch.de
SUMMARY:AWANA\, Youth Group\, Men's & Women's Bible Studies
DESCRIPTION:
URL:https://www.faithbaptistchurch.de/event/awana-youth-group-mens-womens-bible-studies-23/
CATEGORIES:Our Events,Upcoming Events
END:VEVENT
END:VCALENDAR