BEGIN:VCALENDAR
VERSION:2.0
PRODID:-//Faith Baptist Church - ECPv5.3.1.1//NONSGML v1.0//EN
CALSCALE:GREGORIAN
METHOD:PUBLISH
X-WR-CALNAME:Faith Baptist Church
X-ORIGINAL-URL:https://www.faithbaptistchurch.de
X-WR-CALDESC:Events for Faith Baptist Church
BEGIN:VTIMEZONE
TZID:UTC
BEGIN:STANDARD
TZOFFSETFROM:+0000
TZOFFSETTO:+0000
TZNAME:UTC
DTSTART:20200101T000000
END:STANDARD
END:VTIMEZONE
BEGIN:VEVENT
DTSTART;TZID=UTC:20200301T090000
DTEND;TZID=UTC:20200301T101500
DTSTAMP:20260420T012746
CREATED:20200220T102858Z
LAST-MODIFIED:20200220T102858Z
UID:3520-1583053200-1583057700@www.faithbaptistchurch.de
SUMMARY:Sunday School
DESCRIPTION:
URL:https://www.faithbaptistchurch.de/event/sunday-school-56/
CATEGORIES:Our Events,Upcoming Events
END:VEVENT
BEGIN:VEVENT
DTSTART;TZID=UTC:20200301T103000
DTEND;TZID=UTC:20200301T120000
DTSTAMP:20260420T012746
CREATED:20200220T104123Z
LAST-MODIFIED:20200220T104227Z
UID:3533-1583058600-1583064000@www.faithbaptistchurch.de
SUMMARY:Worship Service
DESCRIPTION:
URL:https://www.faithbaptistchurch.de/event/worship-service-57/
CATEGORIES:Our Events,Upcoming Events
END:VEVENT
BEGIN:VEVENT
DTSTART;TZID=UTC:20200301T140000
DTEND;TZID=UTC:20200301T150000
DTSTAMP:20260420T012746
CREATED:20200220T104523Z
LAST-MODIFIED:20200220T104545Z
UID:3543-1583071200-1583074800@www.faithbaptistchurch.de
SUMMARY:Prayer Meeting
DESCRIPTION:
URL:https://www.faithbaptistchurch.de/event/prayer-meeting-3/
CATEGORIES:Our Events,Upcoming Events
END:VEVENT
END:VCALENDAR