BEGIN:VCALENDAR
VERSION:2.0
PRODID:-//Faith Baptist Church - ECPv5.3.1.1//NONSGML v1.0//EN
CALSCALE:GREGORIAN
METHOD:PUBLISH
X-WR-CALNAME:Faith Baptist Church
X-ORIGINAL-URL:https://www.faithbaptistchurch.de
X-WR-CALDESC:Events for Faith Baptist Church
BEGIN:VTIMEZONE
TZID:UTC
BEGIN:STANDARD
TZOFFSETFROM:+0000
TZOFFSETTO:+0000
TZNAME:UTC
DTSTART:20200101T000000
END:STANDARD
END:VTIMEZONE
BEGIN:VEVENT
DTSTART;TZID=UTC:20200223T090000
DTEND;TZID=UTC:20200223T101500
DTSTAMP:20260420T031352
CREATED:20200113T122001Z
LAST-MODIFIED:20200113T122001Z
UID:3327-1582448400-1582452900@www.faithbaptistchurch.de
SUMMARY:Sunday School
DESCRIPTION:
URL:https://www.faithbaptistchurch.de/event/sunday-school-55/
CATEGORIES:Our Events,Upcoming Events
END:VEVENT
BEGIN:VEVENT
DTSTART;TZID=UTC:20200223T103000
DTEND;TZID=UTC:20200223T120000
DTSTAMP:20260420T031352
CREATED:20200113T130918Z
LAST-MODIFIED:20200113T130918Z
UID:3335-1582453800-1582459200@www.faithbaptistchurch.de
SUMMARY:Worship Service
DESCRIPTION:
URL:https://www.faithbaptistchurch.de/event/worship-service-56/
CATEGORIES:Our Events,Upcoming Events
END:VEVENT
END:VCALENDAR