BEGIN:VCALENDAR
VERSION:2.0
PRODID:-//Faith Baptist Church - ECPv5.3.1.1//NONSGML v1.0//EN
CALSCALE:GREGORIAN
METHOD:PUBLISH
X-WR-CALNAME:Faith Baptist Church
X-ORIGINAL-URL:https://www.faithbaptistchurch.de
X-WR-CALDESC:Events for Faith Baptist Church
BEGIN:VTIMEZONE
TZID:UTC
BEGIN:STANDARD
TZOFFSETFROM:+0000
TZOFFSETTO:+0000
TZNAME:UTC
DTSTART:20200101T000000
END:STANDARD
END:VTIMEZONE
BEGIN:VEVENT
DTSTART;TZID=UTC:20200218T190000
DTEND;TZID=UTC:20200218T200000
DTSTAMP:20260420T031350
CREATED:20200113T131519Z
LAST-MODIFIED:20200113T131519Z
UID:3348-1582052400-1582056000@www.faithbaptistchurch.de
SUMMARY:Book Club (Women's Ministry)
DESCRIPTION:
URL:https://www.faithbaptistchurch.de/event/book-club-womens-ministry-17/
CATEGORIES:Our Events,Upcoming Events
END:VEVENT
BEGIN:VEVENT
DTSTART;TZID=UTC:20200218T190000
DTEND;TZID=UTC:20200218T203000
DTSTAMP:20260420T031350
CREATED:20200113T131817Z
LAST-MODIFIED:20200113T131817Z
UID:3356-1582052400-1582057800@www.faithbaptistchurch.de
SUMMARY:BSF Men's Bible Study
DESCRIPTION:
URL:https://www.faithbaptistchurch.de/event/bsf-mens-bible-study-18/
LOCATION:Fellowship Hall\, Fellowship Hall
CATEGORIES:Our Events,Upcoming Events
END:VEVENT
END:VCALENDAR