BEGIN:VCALENDAR
VERSION:2.0
PRODID:-//Faith Baptist Church - ECPv5.3.1.1//NONSGML v1.0//EN
CALSCALE:GREGORIAN
METHOD:PUBLISH
X-WR-CALNAME:Faith Baptist Church
X-ORIGINAL-URL:https://www.faithbaptistchurch.de
X-WR-CALDESC:Events for Faith Baptist Church
BEGIN:VTIMEZONE
TZID:UTC
BEGIN:STANDARD
TZOFFSETFROM:+0000
TZOFFSETTO:+0000
TZNAME:UTC
DTSTART:20200101T000000
END:STANDARD
END:VTIMEZONE
BEGIN:VEVENT
DTSTART;TZID=UTC:20200126T090000
DTEND;TZID=UTC:20200126T101500
DTSTAMP:20260420T044800
CREATED:20191202T131618Z
LAST-MODIFIED:20191202T131618Z
UID:3117-1580029200-1580033700@www.faithbaptistchurch.de
SUMMARY:Sunday School
DESCRIPTION:
URL:https://www.faithbaptistchurch.de/event/sunday-school-51/
CATEGORIES:Our Events,Upcoming Events
END:VEVENT
BEGIN:VEVENT
DTSTART;TZID=UTC:20200126T103000
DTEND;TZID=UTC:20200126T120000
DTSTAMP:20260420T044800
CREATED:20191202T131941Z
LAST-MODIFIED:20191202T131941Z
UID:3123-1580034600-1580040000@www.faithbaptistchurch.de
SUMMARY:Worship Service
DESCRIPTION:
URL:https://www.faithbaptistchurch.de/event/worship-service-51/
CATEGORIES:Our Events,Upcoming Events
END:VEVENT
BEGIN:VEVENT
DTSTART;TZID=UTC:20200126T120000
DTEND;TZID=UTC:20200126T130000
DTSTAMP:20260420T044800
CREATED:20200113T133210Z
LAST-MODIFIED:20200113T133210Z
UID:3385-1580040000-1580043600@www.faithbaptistchurch.de
SUMMARY:Welcome to Faith Lunch
DESCRIPTION:
URL:https://www.faithbaptistchurch.de/event/welcome-to-faith-lunch-2/
LOCATION:Fellowship Hall\, Fellowship Hall
CATEGORIES:Our Events,Upcoming Events
END:VEVENT
BEGIN:VEVENT
DTSTART;TZID=UTC:20200126T170000
DTEND;TZID=UTC:20200126T180000
DTSTAMP:20260420T044800
CREATED:20200122T211527Z
LAST-MODIFIED:20200122T211527Z
UID:3455-1580058000-1580061600@www.faithbaptistchurch.de
SUMMARY:Portuguese Worship Service
DESCRIPTION:
URL:https://www.faithbaptistchurch.de/event/portuguese-worship-service/
CATEGORIES:Our Events,Upcoming Events
END:VEVENT
END:VCALENDAR