BEGIN:VCALENDAR
VERSION:2.0
PRODID:-//Faith Baptist Church - ECPv5.3.1.1//NONSGML v1.0//EN
CALSCALE:GREGORIAN
METHOD:PUBLISH
X-WR-CALNAME:Faith Baptist Church
X-ORIGINAL-URL:https://www.faithbaptistchurch.de
X-WR-CALDESC:Events for Faith Baptist Church
BEGIN:VTIMEZONE
TZID:UTC
BEGIN:STANDARD
TZOFFSETFROM:+0000
TZOFFSETTO:+0000
TZNAME:UTC
DTSTART:20190101T000000
END:STANDARD
END:VTIMEZONE
BEGIN:VEVENT
DTSTART;TZID=UTC:20191203T070000
DTEND;TZID=UTC:20191203T200000
DTSTAMP:20260420T062427
CREATED:20191022T114411Z
LAST-MODIFIED:20191022T114411Z
UID:3011-1575356400-1575403200@www.faithbaptistchurch.de
SUMMARY:Book Club (Women's Ministry)
DESCRIPTION:
URL:https://www.faithbaptistchurch.de/event/book-club-womens-ministry-4/
CATEGORIES:Our Events,Upcoming Events
END:VEVENT
BEGIN:VEVENT
DTSTART;TZID=UTC:20191203T190000
DTEND;TZID=UTC:20191203T203000
DTSTAMP:20260420T062427
CREATED:20191022T114046Z
LAST-MODIFIED:20191022T114046Z
UID:3005-1575399600-1575405000@www.faithbaptistchurch.de
SUMMARY:BSF Men's Bible Study
DESCRIPTION:
URL:https://www.faithbaptistchurch.de/event/bsf-mens-bible-study-9/
LOCATION:Fellowship Hall\, Fellowship Hall
CATEGORIES:Our Events,Upcoming Events
END:VEVENT
END:VCALENDAR