BEGIN:VCALENDAR
VERSION:2.0
PRODID:-//Faith Baptist Church - ECPv5.3.1.1//NONSGML v1.0//EN
CALSCALE:GREGORIAN
METHOD:PUBLISH
X-WR-CALNAME:Faith Baptist Church
X-ORIGINAL-URL:https://www.faithbaptistchurch.de
X-WR-CALDESC:Events for Faith Baptist Church
BEGIN:VTIMEZONE
TZID:UTC
BEGIN:STANDARD
TZOFFSETFROM:+0000
TZOFFSETTO:+0000
TZNAME:UTC
DTSTART:20190101T000000
END:STANDARD
END:VTIMEZONE
BEGIN:VEVENT
DTSTART;TZID=UTC:20191201T090000
DTEND;TZID=UTC:20191201T101500
DTSTAMP:20260420T080358
CREATED:20191022T112628Z
LAST-MODIFIED:20191022T112628Z
UID:2977-1575190800-1575195300@www.faithbaptistchurch.de
SUMMARY:Sunday School
DESCRIPTION:
URL:https://www.faithbaptistchurch.de/event/sunday-school-44/
CATEGORIES:Our Events,Upcoming Events
END:VEVENT
BEGIN:VEVENT
DTSTART;TZID=UTC:20191201T103000
DTEND;TZID=UTC:20191201T120000
DTSTAMP:20260420T080358
CREATED:20191022T113051Z
LAST-MODIFIED:20191022T113051Z
UID:2987-1575196200-1575201600@www.faithbaptistchurch.de
SUMMARY:Worship Service
DESCRIPTION:
URL:https://www.faithbaptistchurch.de/event/worship-service-44/
CATEGORIES:Our Events,Upcoming Events
END:VEVENT
BEGIN:VEVENT
DTSTART;TZID=UTC:20191201T150000
DTEND;TZID=UTC:20191201T160000
DTSTAMP:20260420T080358
CREATED:20191022T113344Z
LAST-MODIFIED:20191125T135849Z
UID:2997-1575212400-1575216000@www.faithbaptistchurch.de
SUMMARY:Prayer Service
DESCRIPTION:
URL:https://www.faithbaptistchurch.de/event/prayer-service-10/
CATEGORIES:Our Events,Upcoming Events
END:VEVENT
END:VCALENDAR