BEGIN:VCALENDAR
VERSION:2.0
PRODID:-//Faith Baptist Church - ECPv5.3.1.1//NONSGML v1.0//EN
CALSCALE:GREGORIAN
METHOD:PUBLISH
X-WR-CALNAME:Faith Baptist Church
X-ORIGINAL-URL:https://www.faithbaptistchurch.de
X-WR-CALDESC:Events for Faith Baptist Church
BEGIN:VTIMEZONE
TZID:UTC
BEGIN:STANDARD
TZOFFSETFROM:+0000
TZOFFSETTO:+0000
TZNAME:UTC
DTSTART:20190101T000000
END:STANDARD
END:VTIMEZONE
BEGIN:VEVENT
DTSTART;TZID=UTC:20191124T090000
DTEND;TZID=UTC:20191124T101500
DTSTAMP:20260420T121823
CREATED:20190930T120138Z
LAST-MODIFIED:20191022T111856Z
UID:2882-1574586000-1574590500@www.faithbaptistchurch.de
SUMMARY:Sunday School
DESCRIPTION:
URL:https://www.faithbaptistchurch.de/event/sunday-school-43/
CATEGORIES:Our Events,Upcoming Events
END:VEVENT
BEGIN:VEVENT
DTSTART;TZID=UTC:20191124T103000
DTEND;TZID=UTC:20191124T120000
DTSTAMP:20260420T121823
CREATED:20190930T115817Z
LAST-MODIFIED:20191022T112006Z
UID:2876-1574591400-1574596800@www.faithbaptistchurch.de
SUMMARY:Worship Service
DESCRIPTION:
URL:https://www.faithbaptistchurch.de/event/worship-service-42/
CATEGORIES:Our Events,Upcoming Events
END:VEVENT
BEGIN:VEVENT
DTSTART;TZID=UTC:20191124T150000
DTEND;TZID=UTC:20191124T160000
DTSTAMP:20260420T121823
CREATED:20190930T115503Z
LAST-MODIFIED:20191022T112025Z
UID:2866-1574607600-1574611200@www.faithbaptistchurch.de
SUMMARY:Portuguese Service
DESCRIPTION:
URL:https://www.faithbaptistchurch.de/event/portuguese-service-11/
CATEGORIES:Our Events,Upcoming Events
END:VEVENT
BEGIN:VEVENT
DTSTART;TZID=UTC:20191124T170000
DTEND;TZID=UTC:20191124T183000
DTSTAMP:20260420T121823
CREATED:20190930T115600Z
LAST-MODIFIED:20191022T112054Z
UID:2868-1574614800-1574620200@www.faithbaptistchurch.de
SUMMARY:Church-wide Thanksgiving Dinner
DESCRIPTION:
URL:https://www.faithbaptistchurch.de/event/church-wide-thanksgiving-dinner/
CATEGORIES:Our Events,Upcoming Events
END:VEVENT
END:VCALENDAR