BEGIN:VCALENDAR
VERSION:2.0
PRODID:-//Faith Baptist Church - ECPv5.3.1.1//NONSGML v1.0//EN
CALSCALE:GREGORIAN
METHOD:PUBLISH
X-WR-CALNAME:Faith Baptist Church
X-ORIGINAL-URL:https://www.faithbaptistchurch.de
X-WR-CALDESC:Events for Faith Baptist Church
BEGIN:VTIMEZONE
TZID:UTC
BEGIN:STANDARD
TZOFFSETFROM:+0000
TZOFFSETTO:+0000
TZNAME:UTC
DTSTART:20190101T000000
END:STANDARD
END:VTIMEZONE
BEGIN:VEVENT
DTSTART;TZID=UTC:20191117T090000
DTEND;TZID=UTC:20191117T101500
DTSTAMP:20260420T133903
CREATED:20190930T120041Z
LAST-MODIFIED:20191022T111742Z
UID:2880-1573981200-1573985700@www.faithbaptistchurch.de
SUMMARY:Sunday School
DESCRIPTION:
URL:https://www.faithbaptistchurch.de/event/sunday-school-42/
CATEGORIES:Our Events,Upcoming Events
END:VEVENT
BEGIN:VEVENT
DTSTART;TZID=UTC:20191117T103000
DTEND;TZID=UTC:20191117T120000
DTSTAMP:20260420T133903
CREATED:20190930T115952Z
LAST-MODIFIED:20191022T111828Z
UID:2878-1573986600-1573992000@www.faithbaptistchurch.de
SUMMARY:Worship Service
DESCRIPTION:
URL:https://www.faithbaptistchurch.de/event/worship-service-43/
CATEGORIES:Our Events,Upcoming Events
END:VEVENT
END:VCALENDAR