BEGIN:VCALENDAR
VERSION:2.0
PRODID:-//Faith Baptist Church - ECPv5.3.1.1//NONSGML v1.0//EN
CALSCALE:GREGORIAN
METHOD:PUBLISH
X-WR-CALNAME:Faith Baptist Church
X-ORIGINAL-URL:https://www.faithbaptistchurch.de
X-WR-CALDESC:Events for Faith Baptist Church
BEGIN:VTIMEZONE
TZID:UTC
BEGIN:STANDARD
TZOFFSETFROM:+0000
TZOFFSETTO:+0000
TZNAME:UTC
DTSTART:20190101T000000
END:STANDARD
END:VTIMEZONE
BEGIN:VEVENT
DTSTART;TZID=UTC:20191116T080000
DTEND;TZID=UTC:20191116T100000
DTSTAMP:20260420T122417
CREATED:20190930T122158Z
LAST-MODIFIED:20190930T122158Z
UID:2931-1573891200-1573898400@www.faithbaptistchurch.de
SUMMARY:Men's Breakfast
DESCRIPTION:
URL:https://www.faithbaptistchurch.de/event/mens-breakfast-8/
LOCATION:Fellowship Hall\, Fellowship Hall
CATEGORIES:Our Events,Upcoming Events
END:VEVENT
END:VCALENDAR