BEGIN:VCALENDAR
VERSION:2.0
PRODID:-//Faith Baptist Church - ECPv5.3.1.1//NONSGML v1.0//EN
CALSCALE:GREGORIAN
METHOD:PUBLISH
X-WR-CALNAME:Faith Baptist Church
X-ORIGINAL-URL:https://www.faithbaptistchurch.de
X-WR-CALDESC:Events for Faith Baptist Church
BEGIN:VTIMEZONE
TZID:UTC
BEGIN:STANDARD
TZOFFSETFROM:+0000
TZOFFSETTO:+0000
TZNAME:UTC
DTSTART:20190101T000000
END:STANDARD
END:VTIMEZONE
BEGIN:VEVENT
DTSTART;TZID=UTC:20191112T190000
DTEND;TZID=UTC:20191112T203000
DTSTAMP:20260421T150101
CREATED:20190930T120630Z
LAST-MODIFIED:20190930T120630Z
UID:2894-1573585200-1573590600@www.faithbaptistchurch.de
SUMMARY:BSF Men's Bible Study
DESCRIPTION:
URL:https://www.faithbaptistchurch.de/event/bsf-mens-bible-study-6/
LOCATION:Fellowship Hall\, Fellowship Hall
CATEGORIES:Our Events,Upcoming Events
END:VEVENT
BEGIN:VEVENT
DTSTART;TZID=UTC:20191112T190000
DTEND;TZID=UTC:20191112T200000
DTSTAMP:20260421T150101
CREATED:20190930T120847Z
LAST-MODIFIED:20190930T120847Z
UID:2902-1573585200-1573588800@www.faithbaptistchurch.de
SUMMARY:Book Club (Women's Ministry)
DESCRIPTION:
URL:https://www.faithbaptistchurch.de/event/book-club-womens-ministry-6/
CATEGORIES:Our Events,Upcoming Events
END:VEVENT
END:VCALENDAR