BEGIN:VCALENDAR
VERSION:2.0
PRODID:-//Faith Baptist Church - ECPv5.3.1.1//NONSGML v1.0//EN
CALSCALE:GREGORIAN
METHOD:PUBLISH
X-WR-CALNAME:Faith Baptist Church
X-ORIGINAL-URL:https://www.faithbaptistchurch.de
X-WR-CALDESC:Events for Faith Baptist Church
BEGIN:VTIMEZONE
TZID:UTC
BEGIN:STANDARD
TZOFFSETFROM:+0000
TZOFFSETTO:+0000
TZNAME:UTC
DTSTART:20190101T000000
END:STANDARD
END:VTIMEZONE
BEGIN:VEVENT
DTSTART;TZID=UTC:20191103T090000
DTEND;TZID=UTC:20191103T101500
DTSTAMP:20260420T093030
CREATED:20190930T115202Z
LAST-MODIFIED:20191022T111413Z
UID:2856-1572771600-1572776100@www.faithbaptistchurch.de
SUMMARY:Sunday School
DESCRIPTION:
URL:https://www.faithbaptistchurch.de/event/sunday-school-38/
LOCATION:Fellowship Hall\, Fellowship Hall
CATEGORIES:Our Events,Upcoming Events
END:VEVENT
BEGIN:VEVENT
DTSTART;TZID=UTC:20191103T100000
DTEND;TZID=UTC:20191103T120000
DTSTAMP:20260420T093030
CREATED:20190930T115633Z
LAST-MODIFIED:20191022T111536Z
UID:2870-1572775200-1572782400@www.faithbaptistchurch.de
SUMMARY:Worship Service
DESCRIPTION:
URL:https://www.faithbaptistchurch.de/event/worship-service-39/
CATEGORIES:Our Events,Upcoming Events
END:VEVENT
BEGIN:VEVENT
DTSTART;TZID=UTC:20191103T173000
DTEND;TZID=UTC:20191103T183000
DTSTAMP:20260420T093030
CREATED:20190930T115428Z
LAST-MODIFIED:20191022T111616Z
UID:2864-1572802200-1572805800@www.faithbaptistchurch.de
SUMMARY:Prayer Meeting
DESCRIPTION:
URL:https://www.faithbaptistchurch.de/event/prayer-meeting/
CATEGORIES:Our Events,Upcoming Events
END:VEVENT
END:VCALENDAR