BEGIN:VCALENDAR
VERSION:2.0
PRODID:-//Faith Baptist Church - ECPv5.3.1.1//NONSGML v1.0//EN
CALSCALE:GREGORIAN
METHOD:PUBLISH
X-WR-CALNAME:Faith Baptist Church
X-ORIGINAL-URL:https://www.faithbaptistchurch.de
X-WR-CALDESC:Events for Faith Baptist Church
BEGIN:VTIMEZONE
TZID:UTC
BEGIN:STANDARD
TZOFFSETFROM:+0000
TZOFFSETTO:+0000
TZNAME:UTC
DTSTART:20190101T000000
END:STANDARD
END:VTIMEZONE
BEGIN:VEVENT
DTSTART;TZID=UTC:20191027T090000
DTEND;TZID=UTC:20191027T101500
DTSTAMP:20260420T093041
CREATED:20190930T093528Z
LAST-MODIFIED:20190930T093542Z
UID:2778-1572166800-1572171300@www.faithbaptistchurch.de
SUMMARY:Sunday School
DESCRIPTION:
URL:https://www.faithbaptistchurch.de/event/sunday-school-37/
CATEGORIES:Our Events,Upcoming Events
END:VEVENT
BEGIN:VEVENT
DTSTART;TZID=UTC:20191027T090000
DTEND;TZID=UTC:20191027T101500
DTSTAMP:20260420T093041
CREATED:20190930T115345Z
LAST-MODIFIED:20191022T112304Z
UID:2862-1572166800-1572171300@www.faithbaptistchurch.de
SUMMARY:Sunday School
DESCRIPTION:
URL:https://www.faithbaptistchurch.de/event/sunday-school-41/
LOCATION:Fellowship Hall\, Fellowship Hall
CATEGORIES:Our Events,Upcoming Events
END:VEVENT
BEGIN:VEVENT
DTSTART;TZID=UTC:20191027T103000
DTEND;TZID=UTC:20191027T120000
DTSTAMP:20260420T093041
CREATED:20190930T093814Z
LAST-MODIFIED:20190930T093814Z
UID:2786-1572172200-1572177600@www.faithbaptistchurch.de
SUMMARY:Worship Service
DESCRIPTION:
URL:https://www.faithbaptistchurch.de/event/worship-service-38/
CATEGORIES:Our Events,Upcoming Events
END:VEVENT
BEGIN:VEVENT
DTSTART;TZID=UTC:20191027T170000
DTEND;TZID=UTC:20191027T190000
DTSTAMP:20260420T093041
CREATED:20190930T114658Z
LAST-MODIFIED:20191022T112310Z
UID:2847-1572195600-1572202800@www.faithbaptistchurch.de
SUMMARY:Portuguese Service
DESCRIPTION:
URL:https://www.faithbaptistchurch.de/event/portuguese-service-10/
CATEGORIES:Our Events,Upcoming Events
END:VEVENT
END:VCALENDAR