BEGIN:VCALENDAR
VERSION:2.0
PRODID:-//Faith Baptist Church - ECPv5.3.1.1//NONSGML v1.0//EN
CALSCALE:GREGORIAN
METHOD:PUBLISH
X-WR-CALNAME:Faith Baptist Church
X-ORIGINAL-URL:https://www.faithbaptistchurch.de
X-WR-CALDESC:Events for Faith Baptist Church
BEGIN:VTIMEZONE
TZID:UTC
BEGIN:STANDARD
TZOFFSETFROM:+0000
TZOFFSETTO:+0000
TZNAME:UTC
DTSTART:20190101T000000
END:STANDARD
END:VTIMEZONE
BEGIN:VEVENT
DTSTART;TZID=UTC:20191019T080000
DTEND;TZID=UTC:20191019T100000
DTSTAMP:20260420T093026
CREATED:20190930T114840Z
LAST-MODIFIED:20190930T114840Z
UID:2849-1571472000-1571479200@www.faithbaptistchurch.de
SUMMARY:Men's Breakfast
DESCRIPTION:
URL:https://www.faithbaptistchurch.de/event/mens-breakfast-7/
LOCATION:Fellowship Hall\, Fellowship Hall
CATEGORIES:Our Events,Upcoming Events
END:VEVENT
END:VCALENDAR