BEGIN:VCALENDAR
VERSION:2.0
PRODID:-//Faith Baptist Church - ECPv5.3.1.1//NONSGML v1.0//EN
CALSCALE:GREGORIAN
METHOD:PUBLISH
X-WR-CALNAME:Faith Baptist Church
X-ORIGINAL-URL:https://www.faithbaptistchurch.de
X-WR-CALDESC:Events for Faith Baptist Church
BEGIN:VTIMEZONE
TZID:UTC
BEGIN:STANDARD
TZOFFSETFROM:+0000
TZOFFSETTO:+0000
TZNAME:UTC
DTSTART:20190101T000000
END:STANDARD
END:VTIMEZONE
BEGIN:VEVENT
DTSTART;TZID=UTC:20191010T183000
DTEND;TZID=UTC:20191010T203000
DTSTAMP:20260420T092932
CREATED:20190930T114502Z
LAST-MODIFIED:20190930T114502Z
UID:2843-1570732200-1570739400@www.faithbaptistchurch.de
SUMMARY:G·E·M·E·I·N·S·C·H·A·F·T
DESCRIPTION:
URL:https://www.faithbaptistchurch.de/event/g%c2%b7e%c2%b7m%c2%b7e%c2%b7i%c2%b7n%c2%b7s%c2%b7c%c2%b7h%c2%b7a%c2%b7f%c2%b7t-2/
LOCATION:Fellowship Hall\, Fellowship Hall
CATEGORIES:Our Events,Upcoming Events
END:VEVENT
BEGIN:VEVENT
DTSTART;TZID=UTC:20191010T190000
DTEND;TZID=UTC:20191010T203000
DTSTAMP:20260420T092932
CREATED:20190930T113149Z
LAST-MODIFIED:20190930T113149Z
UID:2827-1570734000-1570739400@www.faithbaptistchurch.de
SUMMARY:Men's Bible Study
DESCRIPTION:
URL:https://www.faithbaptistchurch.de/event/mens-bible-study-42/
LOCATION:Apartment 2\, Lichtenbrucher Strasse 30\, Kaiserslautern\, 67661\, Germany
CATEGORIES:Our Events,Upcoming Events
END:VEVENT
END:VCALENDAR