BEGIN:VCALENDAR
VERSION:2.0
PRODID:-//Faith Baptist Church - ECPv5.3.1.1//NONSGML v1.0//EN
CALSCALE:GREGORIAN
METHOD:PUBLISH
X-WR-CALNAME:Faith Baptist Church
X-ORIGINAL-URL:https://www.faithbaptistchurch.de
X-WR-CALDESC:Events for Faith Baptist Church
BEGIN:VTIMEZONE
TZID:UTC
BEGIN:STANDARD
TZOFFSETFROM:+0000
TZOFFSETTO:+0000
TZNAME:UTC
DTSTART:20190101T000000
END:STANDARD
END:VTIMEZONE
BEGIN:VEVENT
DTSTART;TZID=UTC:20191006T090000
DTEND;TZID=UTC:20191006T101500
DTSTAMP:20260420T092847
CREATED:20190930T084758Z
LAST-MODIFIED:20190930T084758Z
UID:2772-1570352400-1570356900@www.faithbaptistchurch.de
SUMMARY:Sunday School
DESCRIPTION:
URL:https://www.faithbaptistchurch.de/event/sunday-school-34/
CATEGORIES:Our Events,Upcoming Events
END:VEVENT
BEGIN:VEVENT
DTSTART;TZID=UTC:20191006T103000
DTEND;TZID=UTC:20191006T120000
DTSTAMP:20260420T092847
CREATED:20190930T093621Z
LAST-MODIFIED:20190930T093621Z
UID:2780-1570357800-1570363200@www.faithbaptistchurch.de
SUMMARY:Worship Service
DESCRIPTION:
URL:https://www.faithbaptistchurch.de/event/worship-service-35/
CATEGORIES:Our Events,Upcoming Events
END:VEVENT
BEGIN:VEVENT
DTSTART;TZID=UTC:20191006T173000
DTEND;TZID=UTC:20191006T183000
DTSTAMP:20260420T092847
CREATED:20190930T084608Z
LAST-MODIFIED:20190930T114913Z
UID:2769-1570383000-1570386600@www.faithbaptistchurch.de
SUMMARY:Prayer Service
DESCRIPTION:
URL:https://www.faithbaptistchurch.de/event/prayer-service-9/
CATEGORIES:Our Events,Upcoming Events
END:VEVENT
END:VCALENDAR