BEGIN:VCALENDAR
VERSION:2.0
PRODID:-//Faith Baptist Church - ECPv5.3.1.1//NONSGML v1.0//EN
CALSCALE:GREGORIAN
METHOD:PUBLISH
X-WR-CALNAME:Faith Baptist Church
X-ORIGINAL-URL:https://www.faithbaptistchurch.de
X-WR-CALDESC:Events for Faith Baptist Church
BEGIN:VTIMEZONE
TZID:UTC
BEGIN:STANDARD
TZOFFSETFROM:+0000
TZOFFSETTO:+0000
TZNAME:UTC
DTSTART:20190101T000000
END:STANDARD
END:VTIMEZONE
BEGIN:VEVENT
DTSTART;TZID=UTC:20191001T070000
DTEND;TZID=UTC:20191001T203000
DTSTAMP:20260420T092842
CREATED:20190930T112755Z
LAST-MODIFIED:20190930T113755Z
UID:2815-1569913200-1569961800@www.faithbaptistchurch.de
SUMMARY:BSF Men's Bible Study
DESCRIPTION:
URL:https://www.faithbaptistchurch.de/event/bsf-mens-bible-study/
LOCATION:Fellowship Hall\, Fellowship Hall
CATEGORIES:Our Events,Upcoming Events
END:VEVENT
BEGIN:VEVENT
DTSTART;TZID=UTC:20191001T190000
DTEND;TZID=UTC:20191001T200000
DTSTAMP:20260420T092842
CREATED:20190930T094715Z
LAST-MODIFIED:20190930T094715Z
UID:2798-1569956400-1569960000@www.faithbaptistchurch.de
SUMMARY:Book Club (Women's Ministry)
DESCRIPTION:
URL:https://www.faithbaptistchurch.de/event/book-club-womens-ministry/
CATEGORIES:Our Events,Upcoming Events
END:VEVENT
END:VCALENDAR