BEGIN:VCALENDAR
VERSION:2.0
PRODID:-//Faith Baptist Church - ECPv5.3.1.1//NONSGML v1.0//EN
CALSCALE:GREGORIAN
METHOD:PUBLISH
X-WR-CALNAME:Faith Baptist Church
X-ORIGINAL-URL:https://www.faithbaptistchurch.de
X-WR-CALDESC:Events for Faith Baptist Church
BEGIN:VTIMEZONE
TZID:UTC
BEGIN:STANDARD
TZOFFSETFROM:+0000
TZOFFSETTO:+0000
TZNAME:UTC
DTSTART:20190101T000000
END:STANDARD
END:VTIMEZONE
BEGIN:VEVENT
DTSTART;TZID=UTC:20190927T180000
DTEND;TZID=UTC:20190927T200000
DTSTAMP:20260420T105217
CREATED:20190812T114143Z
LAST-MODIFIED:20190905T123559Z
UID:2603-1569607200-1569614400@www.faithbaptistchurch.de
SUMMARY:Dominoes Night
DESCRIPTION:
URL:https://www.faithbaptistchurch.de/event/dominoes-night-4/
CATEGORIES:Our Events,Upcoming Events
END:VEVENT
END:VCALENDAR