BEGIN:VCALENDAR
VERSION:2.0
PRODID:-//Faith Baptist Church - ECPv5.3.1.1//NONSGML v1.0//EN
CALSCALE:GREGORIAN
METHOD:PUBLISH
X-WR-CALNAME:Faith Baptist Church
X-ORIGINAL-URL:https://www.faithbaptistchurch.de
X-WR-CALDESC:Events for Faith Baptist Church
BEGIN:VTIMEZONE
TZID:UTC
BEGIN:STANDARD
TZOFFSETFROM:+0000
TZOFFSETTO:+0000
TZNAME:UTC
DTSTART:20190101T000000
END:STANDARD
END:VTIMEZONE
BEGIN:VEVENT
DTSTART;TZID=UTC:20190922T090000
DTEND;TZID=UTC:20190922T101500
DTSTAMP:20260420T105232
CREATED:20190812T132107Z
LAST-MODIFIED:20190812T132107Z
UID:2621-1569142800-1569147300@www.faithbaptistchurch.de
SUMMARY:Sunday School
DESCRIPTION:
URL:https://www.faithbaptistchurch.de/event/sunday-school-32/
CATEGORIES:Our Events,Upcoming Events
END:VEVENT
BEGIN:VEVENT
DTSTART;TZID=UTC:20190922T103000
DTEND;TZID=UTC:20190922T120000
DTSTAMP:20260420T105232
CREATED:20190812T131912Z
LAST-MODIFIED:20190812T131912Z
UID:2615-1569148200-1569153600@www.faithbaptistchurch.de
SUMMARY:Worship Service
DESCRIPTION:
URL:https://www.faithbaptistchurch.de/event/worship-service-33/
CATEGORIES:Our Events,Upcoming Events
END:VEVENT
END:VCALENDAR