BEGIN:VCALENDAR
VERSION:2.0
PRODID:-//Faith Baptist Church - ECPv5.3.1.1//NONSGML v1.0//EN
CALSCALE:GREGORIAN
METHOD:PUBLISH
X-WR-CALNAME:Faith Baptist Church
X-ORIGINAL-URL:https://www.faithbaptistchurch.de
X-WR-CALDESC:Events for Faith Baptist Church
BEGIN:VTIMEZONE
TZID:UTC
BEGIN:STANDARD
TZOFFSETFROM:+0000
TZOFFSETTO:+0000
TZNAME:UTC
DTSTART:20190101T000000
END:STANDARD
END:VTIMEZONE
BEGIN:VEVENT
DTSTART;TZID=UTC:20190919T190000
DTEND;TZID=UTC:20190919T203000
DTSTAMP:20260420T105029
CREATED:20190807T130404Z
LAST-MODIFIED:20190807T130433Z
UID:2534-1568919600-1568925000@www.faithbaptistchurch.de
SUMMARY:Men's Bible Study
DESCRIPTION:
URL:https://www.faithbaptistchurch.de/event/mens-bible-study-10/
LOCATION:Apartment 2\, Lichtenbrucher Strasse 30\, Kaiserslautern\, 67661\, Germany
CATEGORIES:Our Events,Upcoming Events
END:VEVENT
BEGIN:VEVENT
DTSTART;TZID=UTC:20190919T190000
DTEND;TZID=UTC:20190919T200000
DTSTAMP:20260420T105029
CREATED:20190905T124409Z
LAST-MODIFIED:20190905T124409Z
UID:2730-1568919600-1568923200@www.faithbaptistchurch.de
SUMMARY:Elim Mission Trip Meeting
DESCRIPTION:
URL:https://www.faithbaptistchurch.de/event/elim-mission-trip-meeting/
CATEGORIES:Our Events,Upcoming Events
END:VEVENT
END:VCALENDAR