BEGIN:VCALENDAR
VERSION:2.0
PRODID:-//Faith Baptist Church - ECPv5.3.1.1//NONSGML v1.0//EN
CALSCALE:GREGORIAN
METHOD:PUBLISH
X-WR-CALNAME:Faith Baptist Church
X-ORIGINAL-URL:https://www.faithbaptistchurch.de
X-WR-CALDESC:Events for Faith Baptist Church
BEGIN:VTIMEZONE
TZID:UTC
BEGIN:STANDARD
TZOFFSETFROM:+0000
TZOFFSETTO:+0000
TZNAME:UTC
DTSTART:20190101T000000
END:STANDARD
END:VTIMEZONE
BEGIN:VEVENT
DTSTART;TZID=UTC:20190828T183000
DTEND;TZID=UTC:20190828T203000
DTSTAMP:20260420T104600
CREATED:20190628T093803Z
LAST-MODIFIED:20190807T133415Z
UID:2409-1567017000-1567024200@www.faithbaptistchurch.de
SUMMARY:Nefarious\, Merchant of Souls
DESCRIPTION:Faith Baptist Church and Kainos Ministry is hosting a screening of the award winning documentary Nefarious\, Merchant of Souls. \nCome and learn how you can fight for those who cannot fight for themselves.
URL:https://www.faithbaptistchurch.de/event/nefarious-merchant-of-souls/
CATEGORIES:Our Events,Upcoming Events
END:VEVENT
END:VCALENDAR