BEGIN:VCALENDAR
VERSION:2.0
PRODID:-//Faith Baptist Church - ECPv5.3.1.1//NONSGML v1.0//EN
CALSCALE:GREGORIAN
METHOD:PUBLISH
X-WR-CALNAME:Faith Baptist Church
X-ORIGINAL-URL:https://www.faithbaptistchurch.de
X-WR-CALDESC:Events for Faith Baptist Church
BEGIN:VTIMEZONE
TZID:UTC
BEGIN:STANDARD
TZOFFSETFROM:+0000
TZOFFSETTO:+0000
TZNAME:UTC
DTSTART:20190101T000000
END:STANDARD
END:VTIMEZONE
BEGIN:VEVENT
DTSTART;VALUE=DATE:20190825
DTEND;VALUE=DATE:20190826
DTSTAMP:20260420T121117
CREATED:20190807T132956Z
LAST-MODIFIED:20190807T133214Z
UID:2552-1566691200-1566777599@www.faithbaptistchurch.de
SUMMARY:Baby Dedication
DESCRIPTION:
URL:https://www.faithbaptistchurch.de/event/baby-dedication/
CATEGORIES:Our Events,Upcoming Events
END:VEVENT
BEGIN:VEVENT
DTSTART;TZID=UTC:20190825T091500
DTEND;TZID=UTC:20190825T101500
DTSTAMP:20260420T121117
CREATED:20190301T110851Z
LAST-MODIFIED:20190301T110851Z
UID:1831-1566724500-1566728100@www.faithbaptistchurch.de
SUMMARY:Sunday School
DESCRIPTION:
URL:https://www.faithbaptistchurch.de/event/sunday-school-29/
END:VEVENT
BEGIN:VEVENT
DTSTART;TZID=UTC:20190825T103000
DTEND;TZID=UTC:20190825T120000
DTSTAMP:20260420T121117
CREATED:20190301T110851Z
LAST-MODIFIED:20190301T110851Z
UID:1832-1566729000-1566734400@www.faithbaptistchurch.de
SUMMARY:Worship Service
DESCRIPTION:
URL:https://www.faithbaptistchurch.de/event/worship-service-29/
END:VEVENT
BEGIN:VEVENT
DTSTART;TZID=UTC:20190825T170000
DTEND;TZID=UTC:20190825T183000
DTSTAMP:20260420T121117
CREATED:20190807T134435Z
LAST-MODIFIED:20190809T102216Z
UID:2556-1566752400-1566757800@www.faithbaptistchurch.de
SUMMARY:Portuguese Service
DESCRIPTION:
URL:https://www.faithbaptistchurch.de/event/portuguese-service-8/
CATEGORIES:Our Events,Upcoming Events
END:VEVENT
END:VCALENDAR