BEGIN:VCALENDAR
VERSION:2.0
PRODID:-//Faith Baptist Church - ECPv5.3.1.1//NONSGML v1.0//EN
CALSCALE:GREGORIAN
METHOD:PUBLISH
X-WR-CALNAME:Faith Baptist Church
X-ORIGINAL-URL:https://www.faithbaptistchurch.de
X-WR-CALDESC:Events for Faith Baptist Church
BEGIN:VTIMEZONE
TZID:UTC
BEGIN:STANDARD
TZOFFSETFROM:+0000
TZOFFSETTO:+0000
TZNAME:UTC
DTSTART:20190101T000000
END:STANDARD
END:VTIMEZONE
BEGIN:VEVENT
DTSTART;TZID=UTC:20190824T100000
DTEND;TZID=UTC:20190824T120000
DTSTAMP:20260420T121110
CREATED:20190812T095543Z
LAST-MODIFIED:20190812T095543Z
UID:2591-1566640800-1566648000@www.faithbaptistchurch.de
SUMMARY:AWANA Leader Training
DESCRIPTION:
URL:https://www.faithbaptistchurch.de/event/awana-leader-training/
CATEGORIES:Our Events,Upcoming Events
END:VEVENT
END:VCALENDAR