BEGIN:VCALENDAR
VERSION:2.0
PRODID:-//Faith Baptist Church - ECPv5.3.1.1//NONSGML v1.0//EN
CALSCALE:GREGORIAN
METHOD:PUBLISH
X-WR-CALNAME:Faith Baptist Church
X-ORIGINAL-URL:https://www.faithbaptistchurch.de
X-WR-CALDESC:Events for Faith Baptist Church
BEGIN:VTIMEZONE
TZID:UTC
BEGIN:STANDARD
TZOFFSETFROM:+0000
TZOFFSETTO:+0000
TZNAME:UTC
DTSTART:20190101T000000
END:STANDARD
END:VTIMEZONE
BEGIN:VEVENT
DTSTART;VALUE=DATE:20190818
DTEND;VALUE=DATE:20190819
DTSTAMP:20260420T121117
CREATED:20190807T132456Z
LAST-MODIFIED:20190809T102108Z
UID:2546-1566086400-1566172799@www.faithbaptistchurch.de
SUMMARY:Church Picnic
DESCRIPTION:
URL:https://www.faithbaptistchurch.de/event/church-picnic/
CATEGORIES:Our Events,Upcoming Events
END:VEVENT
BEGIN:VEVENT
DTSTART;TZID=UTC:20190818T091500
DTEND;TZID=UTC:20190818T101500
DTSTAMP:20260420T121117
CREATED:20190301T110850Z
LAST-MODIFIED:20190301T110850Z
UID:1829-1566119700-1566123300@www.faithbaptistchurch.de
SUMMARY:Sunday School
DESCRIPTION:
URL:https://www.faithbaptistchurch.de/event/sunday-school-28/
END:VEVENT
BEGIN:VEVENT
DTSTART;TZID=UTC:20190818T103000
DTEND;TZID=UTC:20190818T120000
DTSTAMP:20260420T121117
CREATED:20190301T110851Z
LAST-MODIFIED:20190301T110851Z
UID:1830-1566124200-1566129600@www.faithbaptistchurch.de
SUMMARY:Worship Service
DESCRIPTION:
URL:https://www.faithbaptistchurch.de/event/worship-service-28/
END:VEVENT
END:VCALENDAR