BEGIN:VCALENDAR
VERSION:2.0
PRODID:-//Faith Baptist Church - ECPv5.3.1.1//NONSGML v1.0//EN
CALSCALE:GREGORIAN
METHOD:PUBLISH
X-WR-CALNAME:Faith Baptist Church
X-ORIGINAL-URL:https://www.faithbaptistchurch.de
X-WR-CALDESC:Events for Faith Baptist Church
BEGIN:VTIMEZONE
TZID:UTC
BEGIN:STANDARD
TZOFFSETFROM:+0000
TZOFFSETTO:+0000
TZNAME:UTC
DTSTART:20190101T000000
END:STANDARD
END:VTIMEZONE
BEGIN:VEVENT
DTSTART;TZID=UTC:20190815T190000
DTEND;TZID=UTC:20190815T203000
DTSTAMP:20260420T121235
CREATED:20190319T130416Z
LAST-MODIFIED:20190801T125457Z
UID:2002-1565895600-1565901000@www.faithbaptistchurch.de
SUMMARY:Men's Bible Study
DESCRIPTION:POC: Allen Vander Veen: avanderveen@hotmail.com<mailto:avanderveen@hotmail.com>
URL:https://www.faithbaptistchurch.de/event/mens-bible-study-54/
LOCATION:Apartment 2\, Lichtenbrucher Strasse 30\, Kaiserslautern\, 67661\, Germany
END:VEVENT
END:VCALENDAR