BEGIN:VCALENDAR
VERSION:2.0
PRODID:-//Faith Baptist Church - ECPv5.3.1.1//NONSGML v1.0//EN
CALSCALE:GREGORIAN
METHOD:PUBLISH
X-WR-CALNAME:Faith Baptist Church
X-ORIGINAL-URL:https://www.faithbaptistchurch.de
X-WR-CALDESC:Events for Faith Baptist Church
BEGIN:VTIMEZONE
TZID:UTC
BEGIN:STANDARD
TZOFFSETFROM:+0000
TZOFFSETTO:+0000
TZNAME:UTC
DTSTART:20190101T000000
END:STANDARD
END:VTIMEZONE
BEGIN:VEVENT
DTSTART;TZID=UTC:20190811T091500
DTEND;TZID=UTC:20190811T101500
DTSTAMP:20260420T121114
CREATED:20190301T110850Z
LAST-MODIFIED:20190301T110850Z
UID:1827-1565514900-1565518500@www.faithbaptistchurch.de
SUMMARY:Sunday School
DESCRIPTION:
URL:https://www.faithbaptistchurch.de/event/sunday-school-27/
END:VEVENT
BEGIN:VEVENT
DTSTART;TZID=UTC:20190811T103000
DTEND;TZID=UTC:20190811T120000
DTSTAMP:20260420T121114
CREATED:20190301T110850Z
LAST-MODIFIED:20190301T110850Z
UID:1828-1565519400-1565524800@www.faithbaptistchurch.de
SUMMARY:Worship Service
DESCRIPTION:
URL:https://www.faithbaptistchurch.de/event/worship-service-27/
END:VEVENT
END:VCALENDAR