BEGIN:VCALENDAR
VERSION:2.0
PRODID:-//Faith Baptist Church - ECPv5.3.1.1//NONSGML v1.0//EN
CALSCALE:GREGORIAN
METHOD:PUBLISH
X-WR-CALNAME:Faith Baptist Church
X-ORIGINAL-URL:https://www.faithbaptistchurch.de
X-WR-CALDESC:Events for Faith Baptist Church
BEGIN:VTIMEZONE
TZID:UTC
BEGIN:STANDARD
TZOFFSETFROM:+0000
TZOFFSETTO:+0000
TZNAME:UTC
DTSTART:20190101T000000
END:STANDARD
END:VTIMEZONE
BEGIN:VEVENT
DTSTART;TZID=UTC:20190809T180000
DTEND;TZID=UTC:20190809T200000
DTSTAMP:20260420T121235
CREATED:20190807T132348Z
LAST-MODIFIED:20190807T132348Z
UID:2541-1565373600-1565380800@www.faithbaptistchurch.de
SUMMARY:Dominoes Night
DESCRIPTION:
URL:https://www.faithbaptistchurch.de/event/dominoes-night/
LOCATION:Fellowship Hall\, Fellowship Hall
CATEGORIES:Our Events,Upcoming Events
END:VEVENT
END:VCALENDAR