BEGIN:VCALENDAR
VERSION:2.0
PRODID:-//Faith Baptist Church - ECPv5.3.1.1//NONSGML v1.0//EN
CALSCALE:GREGORIAN
METHOD:PUBLISH
X-WR-CALNAME:Faith Baptist Church
X-ORIGINAL-URL:https://www.faithbaptistchurch.de
X-WR-CALDESC:Events for Faith Baptist Church
BEGIN:VTIMEZONE
TZID:UTC
BEGIN:STANDARD
TZOFFSETFROM:+0000
TZOFFSETTO:+0000
TZNAME:UTC
DTSTART:20190101T000000
END:STANDARD
END:VTIMEZONE
BEGIN:VEVENT
DTSTART;TZID=UTC:20190728T091500
DTEND;TZID=UTC:20190728T101500
DTSTAMP:20260420T134309
CREATED:20190301T110850Z
LAST-MODIFIED:20190301T110850Z
UID:1822-1564305300-1564308900@www.faithbaptistchurch.de
SUMMARY:Sunday School
DESCRIPTION:
URL:https://www.faithbaptistchurch.de/event/sunday-school-25/
END:VEVENT
BEGIN:VEVENT
DTSTART;TZID=UTC:20190728T103000
DTEND;TZID=UTC:20190728T120000
DTSTAMP:20260420T134309
CREATED:20190301T110850Z
LAST-MODIFIED:20190301T110850Z
UID:1823-1564309800-1564315200@www.faithbaptistchurch.de
SUMMARY:Worship Service
DESCRIPTION:
URL:https://www.faithbaptistchurch.de/event/worship-service-25/
END:VEVENT
BEGIN:VEVENT
DTSTART;TZID=UTC:20190728T180000
DTEND;TZID=UTC:20190728T193000
DTSTAMP:20260420T134309
CREATED:20190319T130416Z
LAST-MODIFIED:20190319T130416Z
UID:1996-1564336800-1564342200@www.faithbaptistchurch.de
SUMMARY:Portuguese Service
DESCRIPTION:
URL:https://www.faithbaptistchurch.de/event/portuguese-service-7/
END:VEVENT
END:VCALENDAR