BEGIN:VCALENDAR
VERSION:2.0
PRODID:-//Faith Baptist Church - ECPv5.3.1.1//NONSGML v1.0//EN
CALSCALE:GREGORIAN
METHOD:PUBLISH
X-WR-CALNAME:Faith Baptist Church
X-ORIGINAL-URL:https://www.faithbaptistchurch.de
X-WR-CALDESC:Events for Faith Baptist Church
BEGIN:VTIMEZONE
TZID:UTC
BEGIN:STANDARD
TZOFFSETFROM:+0000
TZOFFSETTO:+0000
TZNAME:UTC
DTSTART:20190101T000000
END:STANDARD
END:VTIMEZONE
BEGIN:VEVENT
DTSTART;TZID=UTC:20190702T100000
DTEND;TZID=UTC:20190702T110000
DTSTAMP:20260420T134000
CREATED:20190628T080749Z
LAST-MODIFIED:20190628T080831Z
UID:2370-1562061600-1562065200@www.faithbaptistchurch.de
SUMMARY:You Are Not Alone
DESCRIPTION:
URL:https://www.faithbaptistchurch.de/event/you-are-not-alone/
LOCATION:Apartment 2\, Lichtenbrucher Strasse 30\, Kaiserslautern\, 67661\, Germany
CATEGORIES:Our Events,Upcoming Events
END:VEVENT
END:VCALENDAR