BEGIN:VCALENDAR
VERSION:2.0
PRODID:-//Faith Baptist Church - ECPv5.3.1.1//NONSGML v1.0//EN
CALSCALE:GREGORIAN
METHOD:PUBLISH
X-WR-CALNAME:Faith Baptist Church
X-ORIGINAL-URL:https://www.faithbaptistchurch.de
X-WR-CALDESC:Events for Faith Baptist Church
BEGIN:VTIMEZONE
TZID:UTC
BEGIN:STANDARD
TZOFFSETFROM:+0000
TZOFFSETTO:+0000
TZNAME:UTC
DTSTART:20190101T000000
END:STANDARD
END:VTIMEZONE
BEGIN:VEVENT
DTSTART;TZID=UTC:20190630T091500
DTEND;TZID=UTC:20190630T101500
DTSTAMP:20260420T145559
CREATED:20190301T110848Z
LAST-MODIFIED:20190301T110848Z
UID:1813-1561886100-1561889700@www.faithbaptistchurch.de
SUMMARY:Sunday School
DESCRIPTION:
URL:https://www.faithbaptistchurch.de/event/sunday-school-21/
END:VEVENT
BEGIN:VEVENT
DTSTART;TZID=UTC:20190630T103000
DTEND;TZID=UTC:20190630T120000
DTSTAMP:20260420T145559
CREATED:20190301T110849Z
LAST-MODIFIED:20190301T110849Z
UID:1814-1561890600-1561896000@www.faithbaptistchurch.de
SUMMARY:Worship Service
DESCRIPTION:
URL:https://www.faithbaptistchurch.de/event/worship-service-21/
END:VEVENT
BEGIN:VEVENT
DTSTART;TZID=UTC:20190630T180000
DTEND;TZID=UTC:20190630T193000
DTSTAMP:20260420T145559
CREATED:20190319T130414Z
LAST-MODIFIED:20190319T130414Z
UID:1987-1561917600-1561923000@www.faithbaptistchurch.de
SUMMARY:Portuguese Service
DESCRIPTION:
URL:https://www.faithbaptistchurch.de/event/portuguese-service-6/
END:VEVENT
END:VCALENDAR