BEGIN:VCALENDAR
VERSION:2.0
PRODID:-//Faith Baptist Church - ECPv5.3.1.1//NONSGML v1.0//EN
CALSCALE:GREGORIAN
METHOD:PUBLISH
X-WR-CALNAME:Faith Baptist Church
X-ORIGINAL-URL:https://www.faithbaptistchurch.de
X-WR-CALDESC:Events for Faith Baptist Church
BEGIN:VTIMEZONE
TZID:UTC
BEGIN:STANDARD
TZOFFSETFROM:+0000
TZOFFSETTO:+0000
TZNAME:UTC
DTSTART:20190101T000000
END:STANDARD
END:VTIMEZONE
BEGIN:VEVENT
DTSTART;TZID=UTC:20190623T091500
DTEND;TZID=UTC:20190623T101500
DTSTAMP:20260420T145820
CREATED:20190301T110848Z
LAST-MODIFIED:20190301T110848Z
UID:1811-1561281300-1561284900@www.faithbaptistchurch.de
SUMMARY:Sunday School
DESCRIPTION:
URL:https://www.faithbaptistchurch.de/event/sunday-school-20/
END:VEVENT
BEGIN:VEVENT
DTSTART;TZID=UTC:20190623T103000
DTEND;TZID=UTC:20190623T120000
DTSTAMP:20260420T145820
CREATED:20190301T110848Z
LAST-MODIFIED:20190301T110848Z
UID:1812-1561285800-1561291200@www.faithbaptistchurch.de
SUMMARY:Worship Service
DESCRIPTION:
URL:https://www.faithbaptistchurch.de/event/worship-service-20/
END:VEVENT
END:VCALENDAR