BEGIN:VCALENDAR
VERSION:2.0
PRODID:-//Faith Baptist Church - ECPv5.3.1.1//NONSGML v1.0//EN
CALSCALE:GREGORIAN
METHOD:PUBLISH
X-WR-CALNAME:Faith Baptist Church
X-ORIGINAL-URL:https://www.faithbaptistchurch.de
X-WR-CALDESC:Events for Faith Baptist Church
BEGIN:VTIMEZONE
TZID:UTC
BEGIN:STANDARD
TZOFFSETFROM:+0000
TZOFFSETTO:+0000
TZNAME:UTC
DTSTART:20190101T000000
END:STANDARD
END:VTIMEZONE
BEGIN:VEVENT
DTSTART;TZID=UTC:20190305T183000
DTEND;TZID=UTC:20190305T200000
DTSTAMP:20260420T195027
CREATED:20190301T111434Z
LAST-MODIFIED:20190301T111434Z
UID:1848-1551810600-1551816000@www.faithbaptistchurch.de
SUMMARY:Women's Bible Study
DESCRIPTION:
URL:https://www.faithbaptistchurch.de/event/womens-bible-study-20/
LOCATION:Church office area\, Church office area
END:VEVENT
BEGIN:VEVENT
DTSTART;TZID=UTC:20190305T190000
DTEND;TZID=UTC:20190305T203000
DTSTAMP:20260420T195027
CREATED:20190301T111434Z
LAST-MODIFIED:20190301T111434Z
UID:1849-1551812400-1551817800@www.faithbaptistchurch.de
SUMMARY:Men's Bible Study
DESCRIPTION:POC: Stephen Shea
URL:https://www.faithbaptistchurch.de/event/mens-bible-study-5/
LOCATION:Fellowship Hall\, Fellowship Hall
END:VEVENT
END:VCALENDAR