BEGIN:VCALENDAR
VERSION:2.0
PRODID:-//Faith Baptist Church - ECPv5.3.1.1//NONSGML v1.0//EN
CALSCALE:GREGORIAN
METHOD:PUBLISH
X-WR-CALNAME:Faith Baptist Church
X-ORIGINAL-URL:https://www.faithbaptistchurch.de
X-WR-CALDESC:Events for Faith Baptist Church
BEGIN:VTIMEZONE
TZID:UTC
BEGIN:STANDARD
TZOFFSETFROM:+0000
TZOFFSETTO:+0000
TZNAME:UTC
DTSTART:20190101T000000
END:STANDARD
END:VTIMEZONE
BEGIN:VEVENT
DTSTART;TZID=UTC:20190224T091500
DTEND;TZID=UTC:20190224T101500
DTSTAMP:20260420T213304
CREATED:20190301T110843Z
LAST-MODIFIED:20190301T110843Z
UID:1761-1550999700-1551003300@www.faithbaptistchurch.de
SUMMARY:Sunday School
DESCRIPTION:
URL:https://www.faithbaptistchurch.de/event/sunday-school-3/
END:VEVENT
BEGIN:VEVENT
DTSTART;TZID=UTC:20190224T103000
DTEND;TZID=UTC:20190224T120000
DTSTAMP:20260420T213304
CREATED:20190301T110843Z
LAST-MODIFIED:20190301T110843Z
UID:1762-1551004200-1551009600@www.faithbaptistchurch.de
SUMMARY:Worship Service
DESCRIPTION:
URL:https://www.faithbaptistchurch.de/event/worship-service-3/
END:VEVENT
BEGIN:VEVENT
DTSTART;TZID=UTC:20190224T170000
DTEND;TZID=UTC:20190224T190000
DTSTAMP:20260420T213304
CREATED:20190212T193309Z
LAST-MODIFIED:20190212T193615Z
UID:1734-1551027600-1551034800@www.faithbaptistchurch.de
SUMMARY:Portuguese Service
DESCRIPTION:
URL:https://www.faithbaptistchurch.de/event/portuguese-service-2/
CATEGORIES:Our Events,Upcoming Events
END:VEVENT
END:VCALENDAR