BEGIN:VCALENDAR
VERSION:2.0
PRODID:-//Faith Baptist Church - ECPv5.3.1.1//NONSGML v1.0//EN
CALSCALE:GREGORIAN
METHOD:PUBLISH
X-WR-CALNAME:Faith Baptist Church
X-ORIGINAL-URL:https://www.faithbaptistchurch.de
X-WR-CALDESC:Events for Faith Baptist Church
BEGIN:VTIMEZONE
TZID:UTC
BEGIN:STANDARD
TZOFFSETFROM:+0000
TZOFFSETTO:+0000
TZNAME:UTC
DTSTART:20190101T000000
END:STANDARD
END:VTIMEZONE
BEGIN:VEVENT
DTSTART;TZID=UTC:20190223T080000
DTEND;TZID=UTC:20190223T100000
DTSTAMP:20260420T213218
CREATED:20190212T192551Z
LAST-MODIFIED:20190212T192551Z
UID:1725-1550908800-1550916000@www.faithbaptistchurch.de
SUMMARY:Men's Breakfast
DESCRIPTION:
URL:https://www.faithbaptistchurch.de/event/mens-breakfast-2/
CATEGORIES:Upcoming Events
END:VEVENT
BEGIN:VEVENT
DTSTART;TZID=UTC:20190223T100000
DTEND;TZID=UTC:20190223T160000
DTSTAMP:20260420T213218
CREATED:20190117T091835Z
LAST-MODIFIED:20190212T192704Z
UID:1586-1550916000-1550937600@www.faithbaptistchurch.de
SUMMARY:Apartment 1 work day
DESCRIPTION:&#8211; remove rug/carpets\, kitchen closet\n&#8211; put un-needed items into storage\n&#8211; remove base boards.
URL:https://www.faithbaptistchurch.de/event/apartment-1-work-day/
CATEGORIES:Upcoming Events
END:VEVENT
END:VCALENDAR