BEGIN:VCALENDAR
VERSION:2.0
PRODID:-//Faith Baptist Church - ECPv5.3.1.1//NONSGML v1.0//EN
CALSCALE:GREGORIAN
METHOD:PUBLISH
X-WR-CALNAME:Faith Baptist Church
X-ORIGINAL-URL:https://www.faithbaptistchurch.de
X-WR-CALDESC:Events for Faith Baptist Church
BEGIN:VTIMEZONE
TZID:UTC
BEGIN:STANDARD
TZOFFSETFROM:+0000
TZOFFSETTO:+0000
TZNAME:UTC
DTSTART:20190101T000000
END:STANDARD
END:VTIMEZONE
BEGIN:VEVENT
DTSTART;TZID=UTC:20190215T173000
DTEND;TZID=UTC:20190215T213000
DTSTAMP:20260420T231041
CREATED:20190212T192254Z
LAST-MODIFIED:20190212T192254Z
UID:1721-1550251800-1550266200@www.faithbaptistchurch.de
SUMMARY:Parents Night Out
DESCRIPTION:
URL:https://www.faithbaptistchurch.de/event/parents-night-out/
CATEGORIES:Upcoming Events
END:VEVENT
END:VCALENDAR