BEGIN:VCALENDAR
VERSION:2.0
PRODID:-//Faith Baptist Church - ECPv5.3.1.1//NONSGML v1.0//EN
CALSCALE:GREGORIAN
METHOD:PUBLISH
X-WR-CALNAME:Faith Baptist Church
X-ORIGINAL-URL:https://www.faithbaptistchurch.de
X-WR-CALDESC:Events for Faith Baptist Church
BEGIN:VTIMEZONE
TZID:UTC
BEGIN:STANDARD
TZOFFSETFROM:+0000
TZOFFSETTO:+0000
TZNAME:UTC
DTSTART:20190101T000000
END:STANDARD
END:VTIMEZONE
BEGIN:VEVENT
DTSTART;TZID=UTC:20190205T183000
DTEND;TZID=UTC:20190205T200000
DTSTAMP:20260420T213309
CREATED:20190301T111433Z
LAST-MODIFIED:20190301T111433Z
UID:1835-1549391400-1549396800@www.faithbaptistchurch.de
SUMMARY:Women's Bible Study
DESCRIPTION:
URL:https://www.faithbaptistchurch.de/event/womens-bible-study-16/
LOCATION:Church office area\, Church office area
END:VEVENT
BEGIN:VEVENT
DTSTART;TZID=UTC:20190205T190000
DTEND;TZID=UTC:20190205T203000
DTSTAMP:20260420T213309
CREATED:20190301T111433Z
LAST-MODIFIED:20190301T111433Z
UID:1837-1549393200-1549398600@www.faithbaptistchurch.de
SUMMARY:Men's Bible Study
DESCRIPTION:POC: Stephen Shea
URL:https://www.faithbaptistchurch.de/event/mens-bible-study/
LOCATION:Fellowship Hall\, Fellowship Hall
END:VEVENT
END:VCALENDAR