BEGIN:VCALENDAR
VERSION:2.0
PRODID:-//Faith Baptist Church - ECPv5.3.1.1//NONSGML v1.0//EN
CALSCALE:GREGORIAN
METHOD:PUBLISH
X-WR-CALNAME:Faith Baptist Church
X-ORIGINAL-URL:https://www.faithbaptistchurch.de
X-WR-CALDESC:Events for Faith Baptist Church
BEGIN:VTIMEZONE
TZID:UTC
BEGIN:STANDARD
TZOFFSETFROM:+0000
TZOFFSETTO:+0000
TZNAME:UTC
DTSTART:20190101T000000
END:STANDARD
END:VTIMEZONE
BEGIN:VEVENT
DTSTART;TZID=UTC:20190203T173000
DTEND;TZID=UTC:20190203T183000
DTSTAMP:20260420T213225
CREATED:20190117T091731Z
LAST-MODIFIED:20190117T091731Z
UID:1584-1549215000-1549218600@www.faithbaptistchurch.de
SUMMARY:Church-wide Prayer Meeting
DESCRIPTION:
URL:https://www.faithbaptistchurch.de/event/church-wide-prayer-meeting/
CATEGORIES:Upcoming Events
END:VEVENT
END:VCALENDAR