BEGIN:VCALENDAR
VERSION:2.0
PRODID:-//Faith Baptist Church - ECPv5.3.1.1//NONSGML v1.0//EN
CALSCALE:GREGORIAN
METHOD:PUBLISH
X-WR-CALNAME:Faith Baptist Church
X-ORIGINAL-URL:https://www.faithbaptistchurch.de
X-WR-CALDESC:Events for Faith Baptist Church
BEGIN:VTIMEZONE
TZID:UTC
BEGIN:STANDARD
TZOFFSETFROM:+0000
TZOFFSETTO:+0000
TZNAME:UTC
DTSTART:20190101T000000
END:STANDARD
END:VTIMEZONE
BEGIN:VEVENT
DTSTART;TZID=UTC:20191209T093000
DTEND;TZID=UTC:20191209T113000
DTSTAMP:20260420T080423
CREATED:20191022T113833Z
LAST-MODIFIED:20191022T113833Z
UID:3001-1575883800-1575891000@www.faithbaptistchurch.de
SUMMARY:Women's Bible Study
DESCRIPTION:
URL:https://www.faithbaptistchurch.de/event/womens-bible-study-39/
LOCATION:Apartment 2\, Lichtenbrucher Strasse 30\, Kaiserslautern\, 67661\, Germany
CATEGORIES:Our Events,Upcoming Events
END:VEVENT
END:VCALENDAR