BEGIN:VCALENDAR
VERSION:2.0
PRODID:-//Faith Baptist Church - ECPv5.3.1.1//NONSGML v1.0//EN
CALSCALE:GREGORIAN
METHOD:PUBLISH
X-WR-CALNAME:Faith Baptist Church
X-ORIGINAL-URL:https://www.faithbaptistchurch.de
X-WR-CALDESC:Events for Faith Baptist Church
BEGIN:VTIMEZONE
TZID:UTC
BEGIN:STANDARD
TZOFFSETFROM:+0000
TZOFFSETTO:+0000
TZNAME:UTC
DTSTART:20190101T000000
END:STANDARD
END:VTIMEZONE
BEGIN:VEVENT
DTSTART;TZID=UTC:20190327T181500
DTEND;TZID=UTC:20190327T194500
DTSTAMP:20260419T180434
CREATED:20190301T111435Z
LAST-MODIFIED:20190301T111435Z
UID:1859-1553710500-1553715900@www.faithbaptistchurch.de
SUMMARY:Wednesday Night Activities: AWANA\, Youth Group\, Prayer Meeting
DESCRIPTION:
URL:https://www.faithbaptistchurch.de/event/wednesday-night-activities-awana-youth-group-prayer-meeting-8/
END:VEVENT
END:VCALENDAR