BEGIN:VCALENDAR
VERSION:2.0
PRODID:-//Faith Baptist Church - ECPv5.3.1.1//NONSGML v1.0//EN
CALSCALE:GREGORIAN
METHOD:PUBLISH
X-WR-CALNAME:Faith Baptist Church
X-ORIGINAL-URL:https://www.faithbaptistchurch.de
X-WR-CALDESC:Events for Faith Baptist Church
BEGIN:VTIMEZONE
TZID:UTC
BEGIN:STANDARD
TZOFFSETFROM:+0000
TZOFFSETTO:+0000
TZNAME:UTC
DTSTART:20190101T000000
END:STANDARD
END:VTIMEZONE
BEGIN:VEVENT
DTSTART;TZID=UTC:20190321T180000
DTEND;TZID=UTC:20190321T193000
DTSTAMP:20260420T062828
CREATED:20190301T113415Z
LAST-MODIFIED:20190301T113415Z
UID:1891-1553191200-1553196600@www.faithbaptistchurch.de
SUMMARY:Men's Bible Study
DESCRIPTION:POC: Allen Vander Veen: avanderveen@hotmail.com
URL:https://www.faithbaptistchurch.de/event/mens-bible-study-20/
LOCATION:Apartment 2\, Lichtenbrucher Strasse 30\, Kaiserslautern\, 67661\, Germany
END:VEVENT
END:VCALENDAR