BEGIN:VCALENDAR
VERSION:2.0
PRODID:-//Faith Baptist Church - ECPv5.3.1.1//NONSGML v1.0//EN
CALSCALE:GREGORIAN
METHOD:PUBLISH
X-WR-CALNAME:Faith Baptist Church
X-ORIGINAL-URL:https://www.faithbaptistchurch.de
X-WR-CALDESC:Events for Faith Baptist Church
BEGIN:VTIMEZONE
TZID:UTC
BEGIN:STANDARD
TZOFFSETFROM:+0000
TZOFFSETTO:+0000
TZNAME:UTC
DTSTART:20200101T000000
END:STANDARD
END:VTIMEZONE
BEGIN:VEVENT
DTSTART;TZID=UTC:20200830T090000
DTEND;TZID=UTC:20200830T100000
DTSTAMP:20260419T182041
CREATED:20200731T085836Z
LAST-MODIFIED:20200826T075213Z
UID:4420-1598778000-1598781600@www.faithbaptistchurch.de
SUMMARY:Sunday School for all ages
DESCRIPTION:
URL:https://www.faithbaptistchurch.de/event/adult-sunday-school-3/
CATEGORIES:Our Events,Upcoming Events
END:VEVENT
END:VCALENDAR